BEGIN:VCALENDAR
CALSCALE:GREGORIAN
PRODID:-//Ben Fortuna//iCal4j 1.0//EN
VERSION:2.0
BEGIN:VEVENT
DTSTAMP:20260128T150030Z
DTSTART:20260128T095000
DTEND:20260128T115000
SUMMARY:Local Government Perspective\n\nPaul Conner\, Director\, Planning
  and Zoning South Burlington - Room 8
TZID:America/New_York
UID:20260128T150053Z-uidGen@richgoldman-357e73
END:VEVENT
BEGIN:VALARM
TRIGGER:-PT15M
ACTION:DISPLAY
DESCRIPTION:Local Government Perspective\n\nPaul Conner\, Director\, Plan
 ning and Zoning South Burlington - Room 8
END:VALARM
END:VCALENDAR
