BEGIN:VCALENDAR
CALSCALE:GREGORIAN
PRODID:-//Ben Fortuna//iCal4j 1.0//EN
VERSION:2.0
BEGIN:VEVENT
DTSTAMP:20260125T060513Z
DTSTART:20260128T093000
DTEND:20260128T113000
SUMMARY:S. 183 - An act relating to home improvement and land improvement
  fraud\n\nTBD - Room 1
TZID:America/New_York
UID:20260125T060954Z-uidGen@richgoldman-357e73
END:VEVENT
BEGIN:VALARM
TRIGGER:-PT15M
ACTION:DISPLAY
DESCRIPTION:S. 183 - An act relating to home improvement and land improve
 ment fraud\n\nTBD - Room 1
END:VALARM
END:VCALENDAR
