BEGIN:VCALENDAR
CALSCALE:GREGORIAN
PRODID:-//Ben Fortuna//iCal4j 1.0//EN
VERSION:2.0
BEGIN:VEVENT
DTSTAMP:20260125T060513Z
DTSTART:20260128T093000
DTEND:20260128T113000
SUMMARY:Regional Perspectives\n\nJudge Charlie Baker\, Executive Director
 \, Chittenden County Regional Planning Commission - Room 8
TZID:America/New_York
UID:20260125T060956Z-uidGen@richgoldman-357e73
END:VEVENT
BEGIN:VALARM
TRIGGER:-PT15M
ACTION:DISPLAY
DESCRIPTION:Regional Perspectives\n\nJudge Charlie Baker\, Executive Dire
 ctor\, Chittenden County Regional Planning Commission - Room 8
END:VALARM
END:VCALENDAR
