BEGIN:VCALENDAR
CALSCALE:GREGORIAN
PRODID:-//Ben Fortuna//iCal4j 1.0//EN
VERSION:2.0
BEGIN:VEVENT
DTSTAMP:20260127T230013Z
DTSTART:20260128T093000
DTEND:20260128T113000
SUMMARY:Regional Perspectives\n\nCatherine Dimitruk\, Executive Director\
 , Northwest Regional Planning Commission\n\nDevon Neary\, Executive Dire
 ctor\, Rutland Regional Planning Commission - Room 8
TZID:America/New_York
UID:20260127T230037Z-uidGen@richgoldman-357e73
END:VEVENT
BEGIN:VALARM
TRIGGER:-PT15M
ACTION:DISPLAY
DESCRIPTION:Regional Perspectives\n\nCatherine Dimitruk\, Executive Direc
 tor\, Northwest Regional Planning Commission\n\nDevon Neary\, Executive 
 Director\, Rutland Regional Planning Commission - Room 8
END:VALARM
END:VCALENDAR
