BEGIN:VCALENDAR
CALSCALE:GREGORIAN
PRODID:-//Ben Fortuna//iCal4j 1.0//EN
VERSION:2.0
BEGIN:VEVENT
DTSTAMP:20260128T150030Z
DTSTART:20260128T093000
DTEND:20260128T113000
SUMMARY:Economic Development\n\nCommittee Discussion\n\nRik Sehgal\, Legi
 slative Counsel\, Office of Legislative Counsel\n\nPatrick Titterton\, S
 enior Fiscal Analyst\, Joint Fiscal Office\n\nLinda Rossi\, State Direct
 or\, Vermont Small Business Development Center - Room 27
TZID:America/New_York
UID:20260128T150047Z-uidGen@richgoldman-357e73
END:VEVENT
BEGIN:VALARM
TRIGGER:-PT15M
ACTION:DISPLAY
DESCRIPTION:Economic Development\n\nCommittee Discussion\n\nRik Sehgal\, 
 Legislative Counsel\, Office of Legislative Counsel\n\nPatrick Titterton
 \, Senior Fiscal Analyst\, Joint Fiscal Office\n\nLinda Rossi\, State Di
 rector\, Vermont Small Business Development Center - Room 27
END:VALARM
END:VCALENDAR
