BEGIN:VCALENDAR
CALSCALE:GREGORIAN
PRODID:-//Ben Fortuna//iCal4j 1.0//EN
VERSION:2.0
BEGIN:VEVENT
DTSTAMP:20260128T150030Z
DTSTART:20260128T092500
DTEND:20260128T112500
SUMMARY:26-0748 - An act relating to housing and common interest communit
 ies - Room 27
TZID:America/New_York
UID:20260128T150042Z-uidGen@richgoldman-357e73
END:VEVENT
BEGIN:VALARM
TRIGGER:-PT15M
ACTION:DISPLAY
DESCRIPTION:26-0748 - An act relating to housing and common interest comm
 unities - Room 27
END:VALARM
END:VCALENDAR
