BEGIN:VCALENDAR
CALSCALE:GREGORIAN
PRODID:-//Ben Fortuna//iCal4j 1.0//EN
VERSION:2.0
BEGIN:VEVENT
DTSTAMP:20260125T060514Z
DTSTART:20260128T150000
DTEND:20260128T170000
SUMMARY:H. 594 - An act relating to establishing the Temporary Emergency 
 Housing and Accountability Program and the Return Home Program in fiscal
  years 2027 and 2028\n\nSamantha Sweet\, Deputy Commissioner\, Departmen
 t of Mental Health\n\nKristen Briggs\, Director of Mental Health Service
 s\, Department of Mental Health - Room 46
TZID:America/New_York
UID:20260125T061321Z-uidGen@richgoldman-357e73
END:VEVENT
BEGIN:VALARM
TRIGGER:-PT15M
ACTION:DISPLAY
DESCRIPTION:H. 594 - An act relating to establishing the Temporary Emerge
 ncy Housing and Accountability Program and the Return Home Program in fi
 scal years 2027 and 2028\n\nSamantha Sweet\, Deputy Commissioner\, Depar
 tment of Mental Health\n\nKristen Briggs\, Director of Mental Health Ser
 vices\, Department of Mental Health - Room 46
END:VALARM
END:VCALENDAR
