BEGIN:VCALENDAR
CALSCALE:GREGORIAN
PRODID:-//Ben Fortuna//iCal4j 1.0//EN
VERSION:2.0
BEGIN:VEVENT
DTSTAMP:20260125T060514Z
DTSTART:20260128T150000
DTEND:20260128T170000
SUMMARY:First-time Home Buyer Credit\n\nMaura Collins\, Executive Directo
 r\, Vermont Housing Finance Agency - Room 35
TZID:America/New_York
UID:20260125T061317Z-uidGen@richgoldman-357e73
END:VEVENT
BEGIN:VALARM
TRIGGER:-PT15M
ACTION:DISPLAY
DESCRIPTION:First-time Home Buyer Credit\n\nMaura Collins\, Executive Dir
 ector\, Vermont Housing Finance Agency - Room 35
END:VALARM
END:VCALENDAR
