BEGIN:VCALENDAR
CALSCALE:GREGORIAN
PRODID:-//Ben Fortuna//iCal4j 1.0//EN
VERSION:2.0
BEGIN:VEVENT
DTSTAMP:20260127T160015Z
DTSTART:20260128T091500
DTEND:20260128T111500
SUMMARY:Educational Service Agencies\n\nJoan Wade\, Executive Director\, 
 Association of Education Service Agency - Room M103
TZID:America/New_York
UID:20260127T160044Z-uidGen@richgoldman-357e73
END:VEVENT
BEGIN:VALARM
TRIGGER:-PT15M
ACTION:DISPLAY
DESCRIPTION:Educational Service Agencies\n\nJoan Wade\, Executive Directo
 r\, Association of Education Service Agency - Room M103
END:VALARM
END:VCALENDAR
