BEGIN:VCALENDAR
CALSCALE:GREGORIAN
PRODID:-//Ben Fortuna//iCal4j 1.0//EN
VERSION:2.0
BEGIN:VEVENT
DTSTAMP:20260128T150030Z
DTSTART:20260128T091500
DTEND:20260128T111500
SUMMARY:H. 647 - An act relating to vinous beverage manufacturers and fou
 rth-class licenses\n\nWitness testimony\n\nDavid Keck\, Legislative Chai
 r\, Vermont Grape & Wine Council - Zoom\n\nRob Knapik\, President\, Verm
 ont Grape & Wine Council - Room M106
TZID:America/New_York
UID:20260128T150041Z-uidGen@richgoldman-357e73
END:VEVENT
BEGIN:VALARM
TRIGGER:-PT15M
ACTION:DISPLAY
DESCRIPTION:H. 647 - An act relating to vinous beverage manufacturers and
  fourth-class licenses\n\nWitness testimony\n\nDavid Keck\, Legislative 
 Chair\, Vermont Grape & Wine Council - Zoom\n\nRob Knapik\, President\, 
 Vermont Grape & Wine Council - Room M106
END:VALARM
END:VCALENDAR
