BEGIN:VCALENDAR
CALSCALE:GREGORIAN
PRODID:-//Ben Fortuna//iCal4j 1.0//EN
VERSION:2.0
BEGIN:VEVENT
DTSTAMP:20260125T060513Z
DTSTART:20260128T090000
DTEND:20260128T110000
SUMMARY:H. 632 - An act relating to miscellaneous environmental amendment
 s\n\nWalk-through and Discussion\n\nMichael O'Grady\, Deputy Chief Couns
 el\, Office of Legislative Counsel - Room EA
TZID:America/New_York
UID:20260125T060920Z-uidGen@richgoldman-357e73
END:VEVENT
BEGIN:VALARM
TRIGGER:-PT15M
ACTION:DISPLAY
DESCRIPTION:H. 632 - An act relating to miscellaneous environmental amend
 ments\n\nWalk-through and Discussion\n\nMichael O'Grady\, Deputy Chief C
 ounsel\, Office of Legislative Counsel - Room EA
END:VALARM
END:VCALENDAR
