BEGIN:VCALENDAR
CALSCALE:GREGORIAN
PRODID:-//Ben Fortuna//iCal4j 1.0//EN
VERSION:2.0
BEGIN:VEVENT
DTSTAMP:20260127T170014Z
DTSTART:20260128T150000
DTEND:20260128T170000
SUMMARY:Agency of Transportation Updates\n\nVTrans Pollinator Program\n\n
 Bonnie Donahue\, Landscape Architect\, UVM EMG\, Agency of Transportatio
 n - Room 43
TZID:America/New_York
UID:20260127T170050Z-uidGen@richgoldman-357e73
END:VEVENT
BEGIN:VALARM
TRIGGER:-PT15M
ACTION:DISPLAY
DESCRIPTION:Agency of Transportation Updates\n\nVTrans Pollinator Program
 \n\nBonnie Donahue\, Landscape Architect\, UVM EMG\, Agency of Transport
 ation - Room 43
END:VALARM
END:VCALENDAR
