BEGIN:VCALENDAR
CALSCALE:GREGORIAN
PRODID:-//Ben Fortuna//iCal4j 1.0//EN
VERSION:2.0
BEGIN:VEVENT
DTSTAMP:20260126T200014Z
DTSTART:20260128T090000
DTEND:20260128T110000
SUMMARY:H. 626 - An act relating to voyeurism and disclosure of sexually 
 explicit images without consent\n\nWitness Testimony\n\nMichele Childs\,
  Team Lead Legislative Counsel\, Office of Legislative Counsel\n\nCiara 
 Kilburn - Invited\n\nThomas Chenette\, Detective\, Retired - Invited - R
 oom 30
TZID:America/New_York
UID:20260126T200030Z-uidGen@richgoldman-357e73
END:VEVENT
BEGIN:VALARM
TRIGGER:-PT15M
ACTION:DISPLAY
DESCRIPTION:H. 626 - An act relating to voyeurism and disclosure of sexua
 lly explicit images without consent\n\nWitness Testimony\n\nMichele Chil
 ds\, Team Lead Legislative Counsel\, Office of Legislative Counsel\n\nCi
 ara Kilburn - Invited\n\nThomas Chenette\, Detective\, Retired - Invited
  - Room 30
END:VALARM
END:VCALENDAR
