BEGIN:VCALENDAR
CALSCALE:GREGORIAN
PRODID:-//Ben Fortuna//iCal4j 1.0//EN
VERSION:2.0
BEGIN:VEVENT
DTSTAMP:20260126T150030Z
DTSTART:20260128T090000
DTEND:20260128T110000
SUMMARY:H. 647 - An act relating to vinous beverage manufacturers and fou
 rth-class licenses\n\nWitness testimony\n\nDavid Keck\, Owner\, Vermont 
 Grape & Wine Council - Zoom\n\nKendra Knapik\, President\, Vermont Grape
  & Wine Council - Zoom\n\nDeidre Heekin\, Vice President\, Vermont Grape
  & Wine Council - Zoom - Room M106
TZID:America/New_York
UID:20260126T150036Z-uidGen@richgoldman-357e73
END:VEVENT
BEGIN:VALARM
TRIGGER:-PT15M
ACTION:DISPLAY
DESCRIPTION:H. 647 - An act relating to vinous beverage manufacturers and
  fourth-class licenses\n\nWitness testimony\n\nDavid Keck\, Owner\, Verm
 ont Grape & Wine Council - Zoom\n\nKendra Knapik\, President\, Vermont G
 rape & Wine Council - Zoom\n\nDeidre Heekin\, Vice President\, Vermont G
 rape & Wine Council - Zoom - Room M106
END:VALARM
END:VCALENDAR
