BEGIN:VCALENDAR
CALSCALE:GREGORIAN
PRODID:-//Ben Fortuna//iCal4j 1.0//EN
VERSION:2.0
BEGIN:VEVENT
DTSTAMP:20260125T060513Z
DTSTART:20260128T090000
DTEND:20260128T110000
SUMMARY:Housing Issues\n\nAlex Farrell\, Commissioner\, Department of Hou
 sing and Community Development - Room 8
TZID:America/New_York
UID:20260125T060940Z-uidGen@richgoldman-357e73
END:VEVENT
BEGIN:VALARM
TRIGGER:-PT15M
ACTION:DISPLAY
DESCRIPTION:Housing Issues\n\nAlex Farrell\, Commissioner\, Department of
  Housing and Community Development - Room 8
END:VALARM
END:VCALENDAR
