BEGIN:VCALENDAR
CALSCALE:GREGORIAN
PRODID:-//Ben Fortuna//iCal4j 1.0//EN
VERSION:2.0
BEGIN:VEVENT
DTSTAMP:20260125T060513Z
DTSTART:20260128T090000
DTEND:20260128T110000
SUMMARY:S. 88 - An act relating to creating an enhanced growth incentive 
 for employee-owned businesses\n\nIntroduction and Walk Through\n\nSen. W
 endy Harrison\, Chair\, Sponsor - Invited\n\nRik Sehgal\, Legislative Co
 unsel\, Office of Legislative Counsel - Invited - Room 27
TZID:America/New_York
UID:20260125T060936Z-uidGen@richgoldman-357e73
END:VEVENT
BEGIN:VALARM
TRIGGER:-PT15M
ACTION:DISPLAY
DESCRIPTION:S. 88 - An act relating to creating an enhanced growth incent
 ive for employee-owned businesses\n\nIntroduction and Walk Through\n\nSe
 n. Wendy Harrison\, Chair\, Sponsor - Invited\n\nRik Sehgal\, Legislativ
 e Counsel\, Office of Legislative Counsel - Invited - Room 27
END:VALARM
END:VCALENDAR
