BEGIN:VCALENDAR
CALSCALE:GREGORIAN
PRODID:-//Ben Fortuna//iCal4j 1.0//EN
VERSION:2.0
BEGIN:VEVENT
DTSTAMP:20260125T060513Z
DTSTART:20260128T090000
DTEND:20260128T110000
SUMMARY:FY27 Budget\n\nVermont Veterans Home\n\nMelissa Jackson\, Chief E
 xecutive Officer\, Vermont Veterans' Home\n\nSteve McClafferty\, Finance
  Director\, Vermont Veterans' Home - Room 9
TZID:America/New_York
UID:20260125T060912Z-uidGen@richgoldman-357e73
END:VEVENT
BEGIN:VALARM
TRIGGER:-PT15M
ACTION:DISPLAY
DESCRIPTION:FY27 Budget\n\nVermont Veterans Home\n\nMelissa Jackson\, Chi
 ef Executive Officer\, Vermont Veterans' Home\n\nSteve McClafferty\, Fin
 ance Director\, Vermont Veterans' Home - Room 9
END:VALARM
END:VCALENDAR
