BEGIN:VCALENDAR
CALSCALE:GREGORIAN
PRODID:-//Ben Fortuna//iCal4j 1.0//EN
VERSION:2.0
BEGIN:VEVENT
DTSTAMP:20260125T060514Z
DTSTART:20260128T143000
DTEND:20260128T163000
SUMMARY:H. 594 - An act relating to establishing the Temporary Emergency 
 Housing and Accountability Program and the Return Home Program in fiscal
  years 2027 and 2028\n\nKristin Calver\, Deputy Commissioner\, Vermont D
 epartment of Corrections\n\nTravis Denton\, Chief of Operations\, Depart
 ment of Corrections - Room 46
TZID:America/New_York
UID:20260125T061309Z-uidGen@richgoldman-357e73
END:VEVENT
BEGIN:VALARM
TRIGGER:-PT15M
ACTION:DISPLAY
DESCRIPTION:H. 594 - An act relating to establishing the Temporary Emerge
 ncy Housing and Accountability Program and the Return Home Program in fi
 scal years 2027 and 2028\n\nKristin Calver\, Deputy Commissioner\, Vermo
 nt Department of Corrections\n\nTravis Denton\, Chief of Operations\, De
 partment of Corrections - Room 46
END:VALARM
END:VCALENDAR
