BEGIN:VCALENDAR
CALSCALE:GREGORIAN
PRODID:-//Ben Fortuna//iCal4j 1.0//EN
VERSION:2.0
BEGIN:VEVENT
DTSTAMP:20260127T030014Z
DTSTART:20260128T143000
DTEND:20260128T163000
SUMMARY:H. 677 - An act relating to primary\, secondary\, and local impor
 tance agricultural soils and solar energy generation\n\nBill Introductio
 n and Walk Through\n\nRep. Gregory "Greg" Burtt\, Reporter\, House Commi
 ttee on Agriculture\, Food Resiliency\, and Forestry\n\nEllen Czajkowski
 \, Legislative Counsel\, Office of Legislative Counsel - Room 49
TZID:America/New_York
UID:20260127T030022Z-uidGen@richgoldman-357e73
END:VEVENT
BEGIN:VALARM
TRIGGER:-PT15M
ACTION:DISPLAY
DESCRIPTION:H. 677 - An act relating to primary\, secondary\, and local i
 mportance agricultural soils and solar energy generation\n\nBill Introdu
 ction and Walk Through\n\nRep. Gregory "Greg" Burtt\, Reporter\, House C
 ommittee on Agriculture\, Food Resiliency\, and Forestry\n\nEllen Czajko
 wski\, Legislative Counsel\, Office of Legislative Counsel - Room 49
END:VALARM
END:VCALENDAR
