BEGIN:VCALENDAR
CALSCALE:GREGORIAN
PRODID:-//Ben Fortuna//iCal4j 1.0//EN
VERSION:2.0
BEGIN:VEVENT
DTSTAMP:20260125T060514Z
DTSTART:20260128T140000
DTEND:20260128T160000
SUMMARY:Vermont Crime Data\n\nMonica Weeber\, Executive Director\, Crime 
 Research Group\n\nRobin Joy\, JD\, PhD\, Director of Research\, Crime Re
 search Group - Room 34
TZID:America/New_York
UID:20260125T061246Z-uidGen@richgoldman-357e73
END:VEVENT
BEGIN:VALARM
TRIGGER:-PT15M
ACTION:DISPLAY
DESCRIPTION:Vermont Crime Data\n\nMonica Weeber\, Executive Director\, Cr
 ime Research Group\n\nRobin Joy\, JD\, PhD\, Director of Research\, Crim
 e Research Group - Room 34
END:VALARM
END:VCALENDAR
