BEGIN:VCALENDAR
CALSCALE:GREGORIAN
PRODID:-//Ben Fortuna//iCal4j 1.0//EN
VERSION:2.0
BEGIN:VEVENT
DTSTAMP:20260128T190014Z
DTSTART:20260128T140000
DTEND:20260128T160000
SUMMARY:State Properties\n\nInventory of State-Owned Properties & Housing
  Suitability Analysis\n\nAlex Farrell\, Commissioner\, Department of Hou
 sing and Community Development\n\nEmily Kisicki\, Deputy Commissioner\, 
 Department of Buildings and General Services - Room 34
TZID:America/New_York
UID:20260128T190027Z-uidGen@richgoldman-357e73
END:VEVENT
BEGIN:VALARM
TRIGGER:-PT15M
ACTION:DISPLAY
DESCRIPTION:State Properties\n\nInventory of State-Owned Properties & Hou
 sing Suitability Analysis\n\nAlex Farrell\, Commissioner\, Department of
  Housing and Community Development\n\nEmily Kisicki\, Deputy Commissione
 r\, Department of Buildings and General Services - Room 34
END:VALARM
END:VCALENDAR
