BEGIN:VCALENDAR
CALSCALE:GREGORIAN
PRODID:-//Ben Fortuna//iCal4j 1.0//EN
VERSION:2.0
BEGIN:VEVENT
DTSTAMP:20260125T060514Z
DTSTART:20260128T140000
DTEND:20260128T160000
SUMMARY:H. 594 - An act relating to establishing the Temporary Emergency 
 Housing and Accountability Program and the Return Home Program in fiscal
  years 2027 and 2028\n\nDr. Jill Bowen\, Commissioner\, Department of Di
 sabilities\, Aging and Independent Living\n\nAngela Smith-Dieng\, Deputy
  Commissioner\, Department of Disabilities\, Aging and Independent Livin
 g - Room 46
TZID:America/New_York
UID:20260125T061254Z-uidGen@richgoldman-357e73
END:VEVENT
BEGIN:VALARM
TRIGGER:-PT15M
ACTION:DISPLAY
DESCRIPTION:H. 594 - An act relating to establishing the Temporary Emerge
 ncy Housing and Accountability Program and the Return Home Program in fi
 scal years 2027 and 2028\n\nDr. Jill Bowen\, Commissioner\, Department o
 f Disabilities\, Aging and Independent Living\n\nAngela Smith-Dieng\, De
 puty Commissioner\, Department of Disabilities\, Aging and Independent L
 iving - Room 46
END:VALARM
END:VCALENDAR
