BEGIN:VCALENDAR
CALSCALE:GREGORIAN
PRODID:-//Ben Fortuna//iCal4j 1.0//EN
VERSION:2.0
BEGIN:VEVENT
DTSTAMP:20260126T180014Z
DTSTART:20260128T140000
DTEND:20260128T160000
SUMMARY:H. 677 - An act relating to primary\, secondary\, and local impor
 tance agricultural soils and solar energy generation\n\nBill Introductio
 n\n\nGreg Burtt\, Bill Sponsor - Room 49
TZID:America/New_York
UID:20260126T180032Z-uidGen@richgoldman-357e73
END:VEVENT
BEGIN:VALARM
TRIGGER:-PT15M
ACTION:DISPLAY
DESCRIPTION:H. 677 - An act relating to primary\, secondary\, and local i
 mportance agricultural soils and solar energy generation\n\nBill Introdu
 ction\n\nGreg Burtt\, Bill Sponsor - Room 49
END:VALARM
END:VCALENDAR
