BEGIN:VCALENDAR
CALSCALE:GREGORIAN
PRODID:-//Ben Fortuna//iCal4j 1.0//EN
VERSION:2.0
BEGIN:VEVENT
DTSTAMP:20260128T180015Z
DTSTART:20260128T140000
DTEND:20260128T160000
SUMMARY:H. 585 - An act relating to health insurance reforms\n\nTestimony
  - Insurance governance and executive compensation\n\nJennifer Carbee\, 
 Deputy Chief Counsel\, Office of Legislative Counsel\n\nKaj Samsom\, Com
 missioner\, Department of Financial Regulation\n\nHillary Borcherding\, 
 J.D.\, Assistant General Counsel\, Department of Financial Regulation - 
 Zoom - Room 42
TZID:America/New_York
UID:20260128T180031Z-uidGen@richgoldman-357e73
END:VEVENT
BEGIN:VALARM
TRIGGER:-PT15M
ACTION:DISPLAY
DESCRIPTION:H. 585 - An act relating to health insurance reforms\n\nTesti
 mony - Insurance governance and executive compensation\n\nJennifer Carbe
 e\, Deputy Chief Counsel\, Office of Legislative Counsel\n\nKaj Samsom\,
  Commissioner\, Department of Financial Regulation\n\nHillary Borcherdin
 g\, J.D.\, Assistant General Counsel\, Department of Financial Regulatio
 n - Zoom - Room 42
END:VALARM
END:VCALENDAR
