BEGIN:VCALENDAR
CALSCALE:GREGORIAN
PRODID:-//Ben Fortuna//iCal4j 1.0//EN
VERSION:2.0
BEGIN:VEVENT
DTSTAMP:20260125T060514Z
DTSTART:20260128T140000
DTEND:20260128T160000
SUMMARY:Agency of Transportation Updates\n\nVermont Multimodal Roadway Gu
 idance\n\nErin Sisson\, Deputy Director\, Highway Division\, Agency of T
 ransportation\n\nMatt Bogaczyk\, Highway Safety and Design Program Manag
 er\, Agency of Transportation\n\nMatthew Arancio\, Planning Manager\, Ag
 ency of Transportation Planning and Research Section - Room 43
TZID:America/New_York
UID:20260125T061257Z-uidGen@richgoldman-357e73
END:VEVENT
BEGIN:VALARM
TRIGGER:-PT15M
ACTION:DISPLAY
DESCRIPTION:Agency of Transportation Updates\n\nVermont Multimodal Roadwa
 y Guidance\n\nErin Sisson\, Deputy Director\, Highway Division\, Agency 
 of Transportation\n\nMatt Bogaczyk\, Highway Safety and Design Program M
 anager\, Agency of Transportation\n\nMatthew Arancio\, Planning Manager\
 , Agency of Transportation Planning and Research Section - Room 43
END:VALARM
END:VCALENDAR
