BEGIN:VCALENDAR
CALSCALE:GREGORIAN
PRODID:-//Ben Fortuna//iCal4j 1.0//EN
VERSION:2.0
BEGIN:VEVENT
DTSTAMP:20260127T000016Z
DTSTART:20260128T133000
DTEND:20260128T153000
SUMMARY:H. 211 - An act relating to data brokers and personal information
 \n\nAmendment Walk-through and Testimony\n\nRik Sehgal\, Legislative Cou
 nsel\, Office of Legislative Counsel\n\nChris D'Elia\, President\, Vermo
 nt Bankers' Association\n\nJames Feehan\, Government Relations Director\
 , Primmer Piper Eggleston & Cramer PC\n\nDylan Zwicky\, Leonine Public A
 ffairs\, Partner\, RELX\n\nSteve Lappenbusch\, Former Data Broker Employ
 ee - Zoom\n\nMatt Schwartz\, Policy Analyst\, Consumer Reports - Zoom\n\
 nJohn Davisson\, Deputy Director and Director of Enforcement\, EPIC - Zo
 om\n\nZach Tomanelli\, Communications and Engagement Director\, VPIRG - 
 Room 35
TZID:America/New_York
UID:20260127T000020Z-uidGen@richgoldman-357e73
END:VEVENT
BEGIN:VALARM
TRIGGER:-PT15M
ACTION:DISPLAY
DESCRIPTION:H. 211 - An act relating to data brokers and personal informa
 tion\n\nAmendment Walk-through and Testimony\n\nRik Sehgal\, Legislative
  Counsel\, Office of Legislative Counsel\n\nChris D'Elia\, President\, V
 ermont Bankers' Association\n\nJames Feehan\, Government Relations Direc
 tor\, Primmer Piper Eggleston & Cramer PC\n\nDylan Zwicky\, Leonine Publ
 ic Affairs\, Partner\, RELX\n\nSteve Lappenbusch\, Former Data Broker Em
 ployee - Zoom\n\nMatt Schwartz\, Policy Analyst\, Consumer Reports - Zoo
 m\n\nJohn Davisson\, Deputy Director and Director of Enforcement\, EPIC 
 - Zoom\n\nZach Tomanelli\, Communications and Engagement Director\, VPIR
 G - Room 35
END:VALARM
END:VCALENDAR
