BEGIN:VCALENDAR
CALSCALE:GREGORIAN
PRODID:-//Ben Fortuna//iCal4j 1.0//EN
VERSION:2.0
BEGIN:VEVENT
DTSTAMP:20260127T180015Z
DTSTART:20260128T133000
DTEND:20260128T153000
SUMMARY:Farmland Loss and Conversion\n\nTestimony of American Farmland Tr
 ust\n\nJaime Pottern\, Senior New England Program Manager\, American Far
 mland Trust - Zoom - Room 49
TZID:America/New_York
UID:20260127T180028Z-uidGen@richgoldman-357e73
END:VEVENT
BEGIN:VALARM
TRIGGER:-PT15M
ACTION:DISPLAY
DESCRIPTION:Farmland Loss and Conversion\n\nTestimony of American Farmlan
 d Trust\n\nJaime Pottern\, Senior New England Program Manager\, American
  Farmland Trust - Zoom - Room 49
END:VALARM
END:VCALENDAR
