BEGIN:VCALENDAR
CALSCALE:GREGORIAN
PRODID:-//Ben Fortuna//iCal4j 1.0//EN
VERSION:2.0
BEGIN:VEVENT
DTSTAMP:20260125T060514Z
DTSTART:20260128T133000
DTEND:20260128T153000
SUMMARY:Capital Budget Funding\n\nCDAAC\n\nScott Baker\, Director Financi
 al Reporting\, Office of the State Treasurer\n\nJeremiah Breer\, Chief F
 inancial Officer\, Office of the State Treasurer\n\nMichael Gaughan\, Ex
 ecutive Director\, Vermont Bond Bank\n\n" - Room 7
TZID:America/New_York
UID:20260125T061239Z-uidGen@richgoldman-357e73
END:VEVENT
BEGIN:VALARM
TRIGGER:-PT15M
ACTION:DISPLAY
DESCRIPTION:Capital Budget Funding\n\nCDAAC\n\nScott Baker\, Director Fin
 ancial Reporting\, Office of the State Treasurer\n\nJeremiah Breer\, Chi
 ef Financial Officer\, Office of the State Treasurer\n\nMichael Gaughan\
 , Executive Director\, Vermont Bond Bank\n\n" - Room 7
END:VALARM
END:VCALENDAR
