BEGIN:VCALENDAR
CALSCALE:GREGORIAN
PRODID:-//Ben Fortuna//iCal4j 1.0//EN
VERSION:2.0
BEGIN:VEVENT
DTSTAMP:20260125T060514Z
DTSTART:20260128T130000
DTEND:20260128T150000
SUMMARY:H. 635 - An act relating to eliminating Department of Corrections
  supervisory fees\n\nWalk-through and DOC testimony\n\nJon Gray\, Legisl
 ative Counsel\, Office of Legislative Counsel\n\nKristin Calver\, Deputy
  Commissioner\, Department of Corrections\n\nTatum LaPlante\, Financial 
 Manager III\, Department of Corrections - Room 34
TZID:America/New_York
UID:20260125T061149Z-uidGen@richgoldman-357e73
END:VEVENT
BEGIN:VALARM
TRIGGER:-PT15M
ACTION:DISPLAY
DESCRIPTION:H. 635 - An act relating to eliminating Department of Correct
 ions supervisory fees\n\nWalk-through and DOC testimony\n\nJon Gray\, Le
 gislative Counsel\, Office of Legislative Counsel\n\nKristin Calver\, De
 puty Commissioner\, Department of Corrections\n\nTatum LaPlante\, Financ
 ial Manager III\, Department of Corrections - Room 34
END:VALARM
END:VCALENDAR
