BEGIN:VCALENDAR
CALSCALE:GREGORIAN
PRODID:-//Ben Fortuna//iCal4j 1.0//EN
VERSION:2.0
BEGIN:VEVENT
DTSTAMP:20260125T060514Z
DTSTART:20260128T130000
DTEND:20260128T150000
SUMMARY:H. 594 - An act relating to establishing the Temporary Emergency 
 Housing and Accountability Program and the Return Home Program in fiscal
  years 2027 and 2028\n\nAHS and Departments' response to bill\n\nSandi H
 offman\, Interim Commissioner\, Department for Children and Families\n\n
 Kristin McClure\, Deputy Secretary\, Agency of Human Services\n\nRenee W
 eeks\, Director of Complex Care & Field Services\, Agency of Human Servi
 ces\n\nAngie White\, Nurse Case Manager\, Vermont Chronic Care Initiativ
 e - Room 46
TZID:America/New_York
UID:20260125T061201Z-uidGen@richgoldman-357e73
END:VEVENT
BEGIN:VALARM
TRIGGER:-PT15M
ACTION:DISPLAY
DESCRIPTION:H. 594 - An act relating to establishing the Temporary Emerge
 ncy Housing and Accountability Program and the Return Home Program in fi
 scal years 2027 and 2028\n\nAHS and Departments' response to bill\n\nSan
 di Hoffman\, Interim Commissioner\, Department for Children and Families
 \n\nKristin McClure\, Deputy Secretary\, Agency of Human Services\n\nRen
 ee Weeks\, Director of Complex Care & Field Services\, Agency of Human S
 ervices\n\nAngie White\, Nurse Case Manager\, Vermont Chronic Care Initi
 ative - Room 46
END:VALARM
END:VCALENDAR
