BEGIN:VCALENDAR
CALSCALE:GREGORIAN
PRODID:-//Ben Fortuna//iCal4j 1.0//EN
VERSION:2.0
BEGIN:VEVENT
DTSTAMP:20260128T150030Z
DTSTART:20260128T131500
DTEND:20260128T151500
SUMMARY:Agency of Transportation Updates\n\nMileage User-Based Fee\n\nPat
 rick Murphy\, State Policy Director\, Agency of Transportation - Zoom - 
 Room 43
TZID:America/New_York
UID:20260128T150115Z-uidGen@richgoldman-357e73
END:VEVENT
BEGIN:VALARM
TRIGGER:-PT15M
ACTION:DISPLAY
DESCRIPTION:Agency of Transportation Updates\n\nMileage User-Based Fee\n\
 nPatrick Murphy\, State Policy Director\, Agency of Transportation - Zoo
 m - Room 43
END:VALARM
END:VCALENDAR
