BEGIN:VCALENDAR
CALSCALE:GREGORIAN
PRODID:-//Ben Fortuna//iCal4j 1.0//EN
VERSION:2.0
BEGIN:VEVENT
DTSTAMP:20260125T060514Z
DTSTART:20260128T130000
DTEND:20260128T150000
SUMMARY:Vermont Food Bank\n\nFarmer Testimony on Vermonters Feeding Vermo
 nters\n\nHilary Martin\, Farmer\, Digger's Mirth Collective Farm - Room 
 49
TZID:America/New_York
UID:20260125T061145Z-uidGen@richgoldman-357e73
END:VEVENT
BEGIN:VALARM
TRIGGER:-PT15M
ACTION:DISPLAY
DESCRIPTION:Vermont Food Bank\n\nFarmer Testimony on Vermonters Feeding V
 ermonters\n\nHilary Martin\, Farmer\, Digger's Mirth Collective Farm - R
 oom 49
END:VALARM
END:VCALENDAR
