BEGIN:VCALENDAR
CALSCALE:GREGORIAN
PRODID:-//Ben Fortuna//iCal4j 1.0//EN
VERSION:2.0
BEGIN:VEVENT
DTSTAMP:20260125T060514Z
DTSTART:20260128T130000
DTEND:20260128T150000
SUMMARY:H. 757 - An act relating to manufactured homes and limited equity
  cooperatives\n\nDan Fecteau\, Fecteau Homes\n\nJim Fecteau\, Fecteau Ho
 mes - Zoom\n\nDan Ridlehoover\, President\, Tri-Park Cooperative Housing
  - Invited\n\nSamantha Sheehan\, Municipal Policy and Advocacy Specialis
 t\, Vermont League of Cities and Towns\n\nJosh Hanford\, Director of Int
 ergovernmental Affairs\, Vermont League of Cities and Towns - Invited - 
 Room 31
TZID:America/New_York
UID:20260125T061154Z-uidGen@richgoldman-357e73
END:VEVENT
BEGIN:VALARM
TRIGGER:-PT15M
ACTION:DISPLAY
DESCRIPTION:H. 757 - An act relating to manufactured homes and limited eq
 uity cooperatives\n\nDan Fecteau\, Fecteau Homes\n\nJim Fecteau\, Fectea
 u Homes - Zoom\n\nDan Ridlehoover\, President\, Tri-Park Cooperative Hou
 sing - Invited\n\nSamantha Sheehan\, Municipal Policy and Advocacy Speci
 alist\, Vermont League of Cities and Towns\n\nJosh Hanford\, Director of
  Intergovernmental Affairs\, Vermont League of Cities and Towns - Invite
 d - Room 31
END:VALARM
END:VCALENDAR
