BEGIN:VCALENDAR
CALSCALE:GREGORIAN
PRODID:-//Ben Fortuna//iCal4j 1.0//EN
VERSION:2.0
BEGIN:VEVENT
DTSTAMP:20260125T060514Z
DTSTART:20260128T140000
DTEND:20260128T160000
SUMMARY:H. 710 - An act relating to defining electricity generating facil
 ities\n\nWalk-through\, Comments\, Committee Discussion\n\nEllen Czajkow
 ski\, Legislative Counsel\, Office of Legislative Counsel\n\nPeter Sterl
 ing\, Executive Director\, Renewable Energy Vermont - Room 32
TZID:America/New_York
UID:20260125T061249Z-uidGen@richgoldman-357e73
END:VEVENT
BEGIN:VALARM
TRIGGER:-PT15M
ACTION:DISPLAY
DESCRIPTION:H. 710 - An act relating to defining electricity generating f
 acilities\n\nWalk-through\, Comments\, Committee Discussion\n\nEllen Cza
 jkowski\, Legislative Counsel\, Office of Legislative Counsel\n\nPeter S
 terling\, Executive Director\, Renewable Energy Vermont - Room 32
END:VALARM
END:VCALENDAR
