BEGIN:VCALENDAR
CALSCALE:GREGORIAN
PRODID:-//Ben Fortuna//iCal4j 1.0//EN
VERSION:2.0
BEGIN:VEVENT
DTSTAMP:20260128T190014Z
DTSTART:20260128T130000
DTEND:20260128T150000
SUMMARY:H. 585 - An act relating to health insurance reforms\n\nTestimony
  - Efficient Service Delivery\n\nJennifer Carbee\, Deputy Chief Counsel\
 , Office of Legislative Counsel\n\nSharon Gutwin\, Owner\, RehabGYM and 
 Kismet Place\n\nMary Block\, Deputy Commissioner of Insurance\, Departme
 nt of Financial Regulation - Zoom\n\nDevon Green\, Senior Vice President
  of Policy and Strategy\, Vermont Association of Hospitals and Health Sy
 stems\n\nJessa Barnard\, Executive Director\, Vermont Medical Society\n\
 nJoe Valenti\, Director of Policy\, Department of Financial Regulation -
  Zoom\n\nAdaline Strumolo\, Deputy Commissioner\, Department of Vermont 
 Health Access (DVHA) - Zoom - Room 42
TZID:America/New_York
UID:20260128T190016Z-uidGen@richgoldman-357e73
END:VEVENT
BEGIN:VALARM
TRIGGER:-PT15M
ACTION:DISPLAY
DESCRIPTION:H. 585 - An act relating to health insurance reforms\n\nTesti
 mony - Efficient Service Delivery\n\nJennifer Carbee\, Deputy Chief Coun
 sel\, Office of Legislative Counsel\n\nSharon Gutwin\, Owner\, RehabGYM 
 and Kismet Place\n\nMary Block\, Deputy Commissioner of Insurance\, Depa
 rtment of Financial Regulation - Zoom\n\nDevon Green\, Senior Vice Presi
 dent of Policy and Strategy\, Vermont Association of Hospitals and Healt
 h Systems\n\nJessa Barnard\, Executive Director\, Vermont Medical Societ
 y\n\nJoe Valenti\, Director of Policy\, Department of Financial Regulati
 on - Zoom\n\nAdaline Strumolo\, Deputy Commissioner\, Department of Verm
 ont Health Access (DVHA) - Zoom - Room 42
END:VALARM
END:VCALENDAR
