BEGIN:VCALENDAR
CALSCALE:GREGORIAN
PRODID:-//Ben Fortuna//iCal4j 1.0//EN
VERSION:2.0
BEGIN:VEVENT
DTSTAMP:20260125T060514Z
DTSTART:20260128T130000
DTEND:20260128T150000
SUMMARY:Agency of Transportation Updates\n\nMileage User-Based Fee\n\nPat
 rick Murphy\, State Policy Director\, Agency of Transportation - Room 43
 
TZID:America/New_York
UID:20260125T061205Z-uidGen@richgoldman-357e73
END:VEVENT
BEGIN:VALARM
TRIGGER:-PT15M
ACTION:DISPLAY
DESCRIPTION:Agency of Transportation Updates\n\nMileage User-Based Fee\n\
 nPatrick Murphy\, State Policy Director\, Agency of Transportation - Roo
 m 43
END:VALARM
END:VCALENDAR
