BEGIN:VCALENDAR
CALSCALE:GREGORIAN
PRODID:-//Ben Fortuna//iCal4j 1.0//EN
VERSION:2.0
BEGIN:VEVENT
DTSTAMP:20260125T060514Z
DTSTART:20260128T130000
DTEND:20260128T150000
SUMMARY:Green Mountain Power\; Utilities Update\n\nCandace Morgan\, Direc
 tor\, Regulatory and Government Affairs\, Green Mountain Power - Room 32
 
TZID:America/New_York
UID:20260125T061152Z-uidGen@richgoldman-357e73
END:VEVENT
BEGIN:VALARM
TRIGGER:-PT15M
ACTION:DISPLAY
DESCRIPTION:Green Mountain Power\; Utilities Update\n\nCandace Morgan\, D
 irector\, Regulatory and Government Affairs\, Green Mountain Power - Roo
 m 32
END:VALARM
END:VCALENDAR
