BEGIN:VCALENDAR
CALSCALE:GREGORIAN
PRODID:-//Ben Fortuna//iCal4j 1.0//EN
VERSION:2.0
BEGIN:VEVENT
DTSTAMP:20260127T030014Z
DTSTART:20260128T113000
DTEND:20260128T133000
SUMMARY:H. 739 - An act relating to prohibiting the use and sale of the h
 erbicide paraquat\n\nBill Introduction and Walk Through\n\nRep. Esme Col
 e\, Amendment Sponsor\, House Committee on Human Services\n\nBradley Sho
 wman\, Legislative Counsel\, Office of Legislative Counsel - Room 49
TZID:America/New_York
UID:20260127T030021Z-uidGen@richgoldman-357e73
END:VEVENT
BEGIN:VALARM
TRIGGER:-PT15M
ACTION:DISPLAY
DESCRIPTION:H. 739 - An act relating to prohibiting the use and sale of t
 he herbicide paraquat\n\nBill Introduction and Walk Through\n\nRep. Esme
  Cole\, Amendment Sponsor\, House Committee on Human Services\n\nBradley
  Showman\, Legislative Counsel\, Office of Legislative Counsel - Room 49
 
END:VALARM
END:VCALENDAR
