BEGIN:VCALENDAR
CALSCALE:GREGORIAN
PRODID:-//Ben Fortuna//iCal4j 1.0//EN
VERSION:2.0
BEGIN:VEVENT
DTSTAMP:20260128T170014Z
DTSTART:20260128T113000
DTEND:20260128T133000
SUMMARY:H. 585 - An act relating to health insurance reforms\n\nTestimony
  - Efficient Service Delivery\n\nJennifer Carbee\, Deputy Chief Counsel\
 , Office of Legislative Counsel\n\nDevon Green\, Senior Vice President o
 f Policy and Strategy\, Vermont Association of Hospitals and Health Syst
 ems\n\nJessa Barnard\, Executive Director\, Vermont Medical Society\n\nS
 haron Gutwin\, Owner\, RehabGYM and Kismet Place\n\nAdaline Strumolo\, D
 eputy Commissioner\, Department of Vermont Health Access (DVHA) - Zoom -
  Room 42
TZID:America/New_York
UID:20260128T170042Z-uidGen@richgoldman-357e73
END:VEVENT
BEGIN:VALARM
TRIGGER:-PT15M
ACTION:DISPLAY
DESCRIPTION:H. 585 - An act relating to health insurance reforms\n\nTesti
 mony - Efficient Service Delivery\n\nJennifer Carbee\, Deputy Chief Coun
 sel\, Office of Legislative Counsel\n\nDevon Green\, Senior Vice Preside
 nt of Policy and Strategy\, Vermont Association of Hospitals and Health 
 Systems\n\nJessa Barnard\, Executive Director\, Vermont Medical Society\
 n\nSharon Gutwin\, Owner\, RehabGYM and Kismet Place\n\nAdaline Strumolo
 \, Deputy Commissioner\, Department of Vermont Health Access (DVHA) - Zo
 om - Room 42
END:VALARM
END:VCALENDAR
