BEGIN:VCALENDAR
CALSCALE:GREGORIAN
PRODID:-//Ben Fortuna//iCal4j 1.0//EN
VERSION:2.0
BEGIN:VEVENT
DTSTAMP:20260128T180015Z
DTSTART:20260128T114000
DTEND:20260128T134000
SUMMARY:Committee Discussion\n\nDiscussion of 2027 Transportation Budget\
 n\nMichele Boomhower\, Director\, Policy\, Planning and Intermodal Devel
 opment Division\, Agency of Transportation - Room 43
TZID:America/New_York
UID:20260128T180022Z-uidGen@richgoldman-357e73
END:VEVENT
BEGIN:VALARM
TRIGGER:-PT15M
ACTION:DISPLAY
DESCRIPTION:Committee Discussion\n\nDiscussion of 2027 Transportation Bud
 get\n\nMichele Boomhower\, Director\, Policy\, Planning and Intermodal D
 evelopment Division\, Agency of Transportation - Room 43
END:VALARM
END:VCALENDAR
