BEGIN:VCALENDAR
CALSCALE:GREGORIAN
PRODID:-//Ben Fortuna//iCal4j 1.0//EN
VERSION:2.0
BEGIN:VEVENT
DTSTAMP:20260125T060514Z
DTSTART:20260128T111500
DTEND:20260128T131500
SUMMARY:S. 157 - An act relating to recovery residence certification\n\nK
 atie McLinn\, Legislative Counsel\, Office of Legislative Counsel\n\nJef
 f Moreau\, Executive Director\, Vermont Alliance for Recovery Residences
  - Room 17
TZID:America/New_York
UID:20260125T061107Z-uidGen@richgoldman-357e73
END:VEVENT
BEGIN:VALARM
TRIGGER:-PT15M
ACTION:DISPLAY
DESCRIPTION:S. 157 - An act relating to recovery residence certification\
 n\nKatie McLinn\, Legislative Counsel\, Office of Legislative Counsel\n\
 nJeff Moreau\, Executive Director\, Vermont Alliance for Recovery Reside
 nces - Room 17
END:VALARM
END:VCALENDAR
