BEGIN:VCALENDAR
CALSCALE:GREGORIAN
PRODID:-//Ben Fortuna//iCal4j 1.0//EN
VERSION:2.0
BEGIN:VEVENT
DTSTAMP:20260128T150030Z
DTSTART:20260128T111500
DTEND:20260128T131500
SUMMARY:S. 157 - An act relating to recovery residence certification\n\nM
 arkUp\n\nKatie McLinn\, Legislative Counsel\, Office of Legislative Coun
 sel\n\nJeff Moreau\, Executive Director\, Vermont Alliance for Recovery 
 Residences\n\nCandace Gale\, Director of Community Relations\, Vermont F
 oundation of Recovery\n\nChadd Viger\, Executive Director\, Recovery Hou
 se\, Inc\n\nJessica Schifano\, Policy Director\, Department of Health\n\
 nEmily Trutor\, Director of Substance Use Disorders\, Department of Heal
 th - Room 17
TZID:America/New_York
UID:20260128T150109Z-uidGen@richgoldman-357e73
END:VEVENT
BEGIN:VALARM
TRIGGER:-PT15M
ACTION:DISPLAY
DESCRIPTION:S. 157 - An act relating to recovery residence certification\
 n\nMarkUp\n\nKatie McLinn\, Legislative Counsel\, Office of Legislative 
 Counsel\n\nJeff Moreau\, Executive Director\, Vermont Alliance for Recov
 ery Residences\n\nCandace Gale\, Director of Community Relations\, Vermo
 nt Foundation of Recovery\n\nChadd Viger\, Executive Director\, Recovery
  House\, Inc\n\nJessica Schifano\, Policy Director\, Department of Healt
 h\n\nEmily Trutor\, Director of Substance Use Disorders\, Department of 
 Health - Room 17
END:VALARM
END:VCALENDAR
