BEGIN:VCALENDAR
CALSCALE:GREGORIAN
PRODID:-//Ben Fortuna//iCal4j 1.0//EN
VERSION:2.0
BEGIN:VEVENT
DTSTAMP:20260128T150030Z
DTSTART:20260128T113000
DTEND:20260128T133000
SUMMARY:Committee Discussion\n\nDiscussion of 2027 Transportation Budget 
 - Room 43
TZID:America/New_York
UID:20260128T150113Z-uidGen@richgoldman-357e73
END:VEVENT
BEGIN:VALARM
TRIGGER:-PT15M
ACTION:DISPLAY
DESCRIPTION:Committee Discussion\n\nDiscussion of 2027 Transportation Bud
 get - Room 43
END:VALARM
END:VCALENDAR
