BEGIN:VCALENDAR
CALSCALE:GREGORIAN
PRODID:-//Ben Fortuna//iCal4j 1.0//EN
VERSION:2.0
BEGIN:VEVENT
DTSTAMP:20260125T060514Z
DTSTART:20260128T110000
DTEND:20260128T130000
SUMMARY:Mileage-Based User Fee\n\nPatrick Murphy\, State Policy Director\
 , Agency of Transportation - Room 3
TZID:America/New_York
UID:20260125T061102Z-uidGen@richgoldman-357e73
END:VEVENT
BEGIN:VALARM
TRIGGER:-PT15M
ACTION:DISPLAY
DESCRIPTION:Mileage-Based User Fee\n\nPatrick Murphy\, State Policy Direc
 tor\, Agency of Transportation - Room 3
END:VALARM
END:VCALENDAR
