BEGIN:VCALENDAR
CALSCALE:GREGORIAN
PRODID:-//Ben Fortuna//iCal4j 1.0//EN
VERSION:2.0
BEGIN:VEVENT
DTSTAMP:20260128T150030Z
DTSTART:20260128T110000
DTEND:20260128T130000
SUMMARY:Joint Fiscal Office\n\nBudget Worksheets\n\nLogan Mooberry\, Fisc
 al Analyst\, Joint Fiscal Office - Room 43
TZID:America/New_York
UID:20260128T150106Z-uidGen@richgoldman-357e73
END:VEVENT
BEGIN:VALARM
TRIGGER:-PT15M
ACTION:DISPLAY
DESCRIPTION:Joint Fiscal Office\n\nBudget Worksheets\n\nLogan Mooberry\, 
 Fiscal Analyst\, Joint Fiscal Office - Room 43
END:VALARM
END:VCALENDAR
