BEGIN:VCALENDAR
CALSCALE:GREGORIAN
PRODID:-//Ben Fortuna//iCal4j 1.0//EN
VERSION:2.0
BEGIN:VEVENT
DTSTAMP:20260128T170014Z
DTSTART:20260128T104500
DTEND:20260128T124500
SUMMARY:Champlain Valley Farmer Coalition\n\nUpdates\n\nBrian Kemp\, Co-C
 hair\, Champlain Valley Farmer Coalition\n\nTim Kayhart\, Vice President
 \, Champlain Valley Farmer Coalition\, Kayhart Brothers Farm\n\nKate Lon
 gfield\, Executive Director\, Champlain Valley Farmer Coalition - Room 4
 9
TZID:America/New_York
UID:20260128T170025Z-uidGen@richgoldman-357e73
END:VEVENT
BEGIN:VALARM
TRIGGER:-PT15M
ACTION:DISPLAY
DESCRIPTION:Champlain Valley Farmer Coalition\n\nUpdates\n\nBrian Kemp\, 
 Co-Chair\, Champlain Valley Farmer Coalition\n\nTim Kayhart\, Vice Presi
 dent\, Champlain Valley Farmer Coalition\, Kayhart Brothers Farm\n\nKate
  Longfield\, Executive Director\, Champlain Valley Farmer Coalition - Ro
 om 49
END:VALARM
END:VCALENDAR
