BEGIN:VCALENDAR
CALSCALE:GREGORIAN
PRODID:-//Ben Fortuna//iCal4j 1.0//EN
VERSION:2.0
BEGIN:VEVENT
DTSTAMP:20260128T170014Z
DTSTART:20260128T104500
DTEND:20260128T124500
SUMMARY:H. 585 - An act relating to health insurance reforms\n\nTestimony
  - Plan Options for Vermonters\, Cntd.\n\nChelsea Bardot Lewis\, Executi
 ve Director\, Vermont Business for Social Responsibility (VBSR)\n\nEmma 
 Paradis\, Common Good Vermont Co-Director\, United Way of Northwest Verm
 ont\n\nMegan Sullivan\, Vice President of Government Affairs\, Vermont C
 hamber of Commerce\n\nMike Fisher\, Chief Health Care Advocate\, Vermont
  Legal Aid\n\nMary Block\, Deputy Commissioner of Insurance\, Department
  of Financial Regulation - Zoom\n\nKaj Samsom\, Commissioner\, Departmen
 t of Financial Regulation - Room 42
TZID:America/New_York
UID:20260128T170026Z-uidGen@richgoldman-357e73
END:VEVENT
BEGIN:VALARM
TRIGGER:-PT15M
ACTION:DISPLAY
DESCRIPTION:H. 585 - An act relating to health insurance reforms\n\nTesti
 mony - Plan Options for Vermonters\, Cntd.\n\nChelsea Bardot Lewis\, Exe
 cutive Director\, Vermont Business for Social Responsibility (VBSR)\n\nE
 mma Paradis\, Common Good Vermont Co-Director\, United Way of Northwest 
 Vermont\n\nMegan Sullivan\, Vice President of Government Affairs\, Vermo
 nt Chamber of Commerce\n\nMike Fisher\, Chief Health Care Advocate\, Ver
 mont Legal Aid\n\nMary Block\, Deputy Commissioner of Insurance\, Depart
 ment of Financial Regulation - Zoom\n\nKaj Samsom\, Commissioner\, Depar
 tment of Financial Regulation - Room 42
END:VALARM
END:VCALENDAR
