BEGIN:VCALENDAR
CALSCALE:GREGORIAN
PRODID:-//Ben Fortuna//iCal4j 1.0//EN
VERSION:2.0
BEGIN:VEVENT
DTSTAMP:20260127T180014Z
DTSTART:20260128T103000
DTEND:20260128T123000
SUMMARY:S. 210 - An act relating to access to autopsy reports\n\nKatie Mc
 Linn\, Legislative Counsel\, Office of Legislative Counsel\n\nAnonymous 
 Witness\, Person with Lived Experience\n\nJudge Thomas Zonay\, Chief Sup
 erior Judge\, Vermont Judiciary - Room 17
TZID:America/New_York
UID:20260127T180020Z-uidGen@richgoldman-357e73
END:VEVENT
BEGIN:VALARM
TRIGGER:-PT15M
ACTION:DISPLAY
DESCRIPTION:S. 210 - An act relating to access to autopsy reports\n\nKati
 e McLinn\, Legislative Counsel\, Office of Legislative Counsel\n\nAnonym
 ous Witness\, Person with Lived Experience\n\nJudge Thomas Zonay\, Chief
  Superior Judge\, Vermont Judiciary - Room 17
END:VALARM
END:VCALENDAR
