BEGIN:VCALENDAR
CALSCALE:GREGORIAN
PRODID:-//Ben Fortuna//iCal4j 1.0//EN
VERSION:2.0
BEGIN:VEVENT
DTSTAMP:20260125T060514Z
DTSTART:20260128T103000
DTEND:20260128T123000
SUMMARY:Governor’s Proposed FY2027 Budget\n\nDAIL Budget and Update on Ag
 e Smart Plan\n\nDr. Jill Bowen\, Commissioner\, Department of Disabiliti
 es\, Aging and Independent Living - Invited\n\nAngela Smith-Dieng\, Depu
 ty Commissioner\, Department of Disabilities\, Aging and Independent Liv
 ing\n\nBill Kelly\, Financial Director\, Department of Disabilities\, Ag
 ing and Independent Living\n\nJennifer Garabedian\, Director\, Developme
 ntal Disabilities Services Division\, Department of Disabilities\, Aging
  and Independent Living - Room 46
TZID:America/New_York
UID:20260125T061035Z-uidGen@richgoldman-357e73
END:VEVENT
BEGIN:VALARM
TRIGGER:-PT15M
ACTION:DISPLAY
DESCRIPTION:Governor’s Proposed FY2027 Budget\n\nDAIL Budget and Update o
 n Age Smart Plan\n\nDr. Jill Bowen\, Commissioner\, Department of Disabi
 lities\, Aging and Independent Living - Invited\n\nAngela Smith-Dieng\, 
 Deputy Commissioner\, Department of Disabilities\, Aging and Independent
  Living\n\nBill Kelly\, Financial Director\, Department of Disabilities\
 , Aging and Independent Living\n\nJennifer Garabedian\, Director\, Devel
 opmental Disabilities Services Division\, Department of Disabilities\, A
 ging and Independent Living - Room 46
END:VALARM
END:VCALENDAR
