BEGIN:VCALENDAR
CALSCALE:GREGORIAN
PRODID:-//Ben Fortuna//iCal4j 1.0//EN
VERSION:2.0
BEGIN:VEVENT
DTSTAMP:20260126T170012Z
DTSTART:20260128T103000
DTEND:20260128T123000
SUMMARY:TBD - Room 46
TZID:America/New_York
UID:20260126T170019Z-uidGen@richgoldman-357e73
END:VEVENT
BEGIN:VALARM
TRIGGER:-PT15M
ACTION:DISPLAY
DESCRIPTION:TBD - Room 46
END:VALARM
END:VCALENDAR
